BEGIN:VCALENDAR
VERSION:2.0
PRODID:-//Buffalo Orienteering Club - ECPv6.15.14//NONSGML v1.0//EN
CALSCALE:GREGORIAN
METHOD:PUBLISH
X-ORIGINAL-URL:https://buffalo-orienteering.org
X-WR-CALDESC:Events for Buffalo Orienteering Club
REFRESH-INTERVAL;VALUE=DURATION:PT1H
X-Robots-Tag:noindex
X-PUBLISHED-TTL:PT1H
BEGIN:VTIMEZONE
TZID:America/New_York
BEGIN:DAYLIGHT
TZOFFSETFROM:-0500
TZOFFSETTO:-0400
TZNAME:EDT
DTSTART:20180311T070000
END:DAYLIGHT
BEGIN:STANDARD
TZOFFSETFROM:-0400
TZOFFSETTO:-0500
TZNAME:EST
DTSTART:20181104T060000
END:STANDARD
BEGIN:DAYLIGHT
TZOFFSETFROM:-0500
TZOFFSETTO:-0400
TZNAME:EDT
DTSTART:20190310T070000
END:DAYLIGHT
BEGIN:STANDARD
TZOFFSETFROM:-0400
TZOFFSETTO:-0500
TZNAME:EST
DTSTART:20191103T060000
END:STANDARD
BEGIN:DAYLIGHT
TZOFFSETFROM:-0500
TZOFFSETTO:-0400
TZNAME:EDT
DTSTART:20200308T070000
END:DAYLIGHT
BEGIN:STANDARD
TZOFFSETFROM:-0400
TZOFFSETTO:-0500
TZNAME:EST
DTSTART:20201101T060000
END:STANDARD
END:VTIMEZONE
BEGIN:VEVENT
DTSTART;TZID=America/New_York:20190518T100000
DTEND;TZID=America/New_York:20190518T120000
DTSTAMP:20260423T095128
CREATED:20190224T232756Z
LAST-MODIFIED:20191108T061901Z
UID:945-1558173600-1558180800@buffalo-orienteering.org
SUMMARY:Chestnut Ridge Learn & Practice
DESCRIPTION:The day starts at 10:00 am with a 60-minute non-competitive training\, learning and educational event for any experience level\, for walkers or runners\, individuals or families\, all ages\, featuring a practice course and experienced instructors. \nFollow the signs to Registration at Shelter #21\, just inside the Newton Road entrance. \nQuestions? Email the Meet Director Linc Blaisdell\, or call him at (716) 479-9431. $10 fee includes instruction\, 5-color park map and entry into the white course in the regular meet that follows.
URL:https://buffalo-orienteering.org/event/chestnut-ridge-learn-practice/
LOCATION:Chestnut Ridge Park – Newton Entrance\, 6317 Newton Rd.\, Orchard Park\, NY\, 14127\, United States
CATEGORIES:Learn and Practice
ORGANIZER;CN="Linc Blaisdell":MAILTO:linc43@roadrunner.com
END:VEVENT
BEGIN:VEVENT
DTSTART;TZID=America/New_York:20190518T103000
DTEND;TZID=America/New_York:20190518T114500
DTSTAMP:20260423T095128
CREATED:20190224T232945Z
LAST-MODIFIED:20191108T061818Z
UID:944-1558175400-1558179900@buffalo-orienteering.org
SUMMARY:Chestnut Ridge 3-Course Meet
DESCRIPTION:A regular Orienteering event featuring White (Beginner)\, Yellow/Orange (Advanced Beginner)\, and Red (Accomplished) courses. All events are for any experience level\, walkers or runners. \nRegister 10:30 am-11:45 am. Starting times for all the orienteering courses are 11:00 am-Noon. Meet at picnic shelter #21\, just inside the Newton Road entrance.  $10 fee ($5 members) includes 5-color park map and entry into your choice of the 3 courses. \nQuestions? Email the Meet Director: Henry Davis\, or call him at (716) 868-3593. Asst. Meet Director Steve Lakomy.
URL:https://buffalo-orienteering.org/event/chestnut-ridge-3-course-meet/
LOCATION:Chestnut Ridge Park – Newton Entrance\, 6317 Newton Rd.\, Orchard Park\, NY\, 14127\, United States
CATEGORIES:Regular Meet
ORGANIZER;CN="Henry Davis":MAILTO:henrysooz@verizon.net
END:VEVENT
END:VCALENDAR