BEGIN:VCALENDAR
VERSION:2.0
PRODID:-//Buffalo Orienteering Club - ECPv6.15.14//NONSGML v1.0//EN
CALSCALE:GREGORIAN
METHOD:PUBLISH
X-ORIGINAL-URL:https://buffalo-orienteering.org
X-WR-CALDESC:Events for Buffalo Orienteering Club
REFRESH-INTERVAL;VALUE=DURATION:PT1H
X-Robots-Tag:noindex
X-PUBLISHED-TTL:PT1H
BEGIN:VTIMEZONE
TZID:America/New_York
BEGIN:DAYLIGHT
TZOFFSETFROM:-0500
TZOFFSETTO:-0400
TZNAME:EDT
DTSTART:20250309T070000
END:DAYLIGHT
BEGIN:STANDARD
TZOFFSETFROM:-0400
TZOFFSETTO:-0500
TZNAME:EST
DTSTART:20251102T060000
END:STANDARD
BEGIN:DAYLIGHT
TZOFFSETFROM:-0500
TZOFFSETTO:-0400
TZNAME:EDT
DTSTART:20260308T070000
END:DAYLIGHT
BEGIN:STANDARD
TZOFFSETFROM:-0400
TZOFFSETTO:-0500
TZNAME:EST
DTSTART:20261101T060000
END:STANDARD
BEGIN:DAYLIGHT
TZOFFSETFROM:-0500
TZOFFSETTO:-0400
TZNAME:EDT
DTSTART:20270314T070000
END:DAYLIGHT
BEGIN:STANDARD
TZOFFSETFROM:-0400
TZOFFSETTO:-0500
TZNAME:EST
DTSTART:20271107T060000
END:STANDARD
END:VTIMEZONE
BEGIN:VEVENT
DTSTART;TZID=America/New_York:20260516T103000
DTEND;TZID=America/New_York:20260516T150000
DTSTAMP:20260423T050330
CREATED:20260322T191515Z
LAST-MODIFIED:20260422T153754Z
UID:2637-1778927400-1778943600@buffalo-orienteering.org
SUMMARY:Emery Park 2026 Classic 3 Courses
DESCRIPTION:Emery Park\, Shelter No. 8\, South side of Emery Rd. \nThis regular orienteering event is designed for all experience levels\, and for walkers\, runners\, and family groups. \nThree courses will be available. The three courses: a short “white” course for beginners\, an intermediate “Yellow” course\, and a more difficult “orange” course. The time limit is three hours. \nOnline pre-registration is strongly encouraged and is the only way to guarantee we will have a map for you. (We will also print a few maps for “day-of” registrations.) The registration deadline is Thursday\, May 14 at 10:00 p.m. (Note: Each member of a group must register and sign the waiver. We recommend that a group leader complete the registration for all group members.) All individuals and groups are welcome. Contact the event director if your group is larger than 4 people. \nThe fee to participate is $5 for members of any orienteering club or $10 for non-members. Juniors (20 and under) who are part of a BFLO family membership\, participate for free\, otherwise $5. Children (11 and under) participate for free but must be registered by their parent.  Not a member?  Join today! \nParticipants may check in at Shelter No. 8 beginning at 10:30 a.m. and may start the course at any time from 11 a.m. to noon. If this is your first time orienteering and you would like to attend a beginner’s briefing\, there is a place to indicate that during the online registration process. We will contact you to make arrangements.
URL:https://buffalo-orienteering.org/event/emery-park-classic-3-courses-2-2-2/
LOCATION:Emery Park\, 2084 Emery Rd\, South Wales\, NY\, 14139\, United States
CATEGORIES:Regular Meet
ORGANIZER;CN="Adam Cady":MAILTO:adamdcady@gmail.com
END:VEVENT
BEGIN:VEVENT
DTSTART;TZID=America/New_York:20260613T100000
DTEND;TZID=America/New_York:20260613T150000
DTSTAMP:20260423T050330
CREATED:20260322T192029Z
LAST-MODIFIED:20260322T192029Z
UID:2638-1781344800-1781362800@buffalo-orienteering.org
SUMMARY:Chestnut Ridge 2026 Classic 3 Courses
DESCRIPTION:Our event at Chestnut Ridge Park will take place on June 13\, 2026. Details are currently being finalized and will be posted soon!
URL:https://buffalo-orienteering.org/event/chestnut-ridge-classic-3-courses-2-2-2/
LOCATION:Chestnut Ridge Casino Side\, 6160 NY-277\, ORCHARD PARK\, NY\, 14127\, United States
CATEGORIES:Regular Meet
ORGANIZER;CN="Henry Davis":MAILTO:henrysooz@verizon.net
END:VEVENT
END:VCALENDAR